BEGIN:VCALENDAR
VERSION:2.0
PRODID:-//ChamberMaster//Event Calendar 2.0//EN
METHOD:PUBLISH
X-PUBLISHED-TTL:P3D
REFRESH-INTERVAL:P3D
CALSCALE:GREGORIAN
BEGIN:VEVENT
DTSTART:20210305T160000Z
DTEND:20210305T180000Z
X-MICROSOFT-CDO-ALLDAYEVENT:FALSE
SUMMARY:WTA Tourism Development Program
DESCRIPTION:The Washington Tourism Alliance Tourism Development Program Introduction:\n\n	Update on WTA initiatives\n	WTA Tourism Development Plan\n	Discussion on the best ways for the WTA to support current initiatives in the Gorge
X-ALT-DESC;FMTTYPE=text/html:The Washington Tourism Alliance <strong>Tourism Development Program</strong> Introduction:\n<ul>\n	<li style="margin-left:0in\;">Update on WTA initiatives</li>\n	<li style="margin-left:0in\;">WTA Tourism Development Plan</li>\n	<li style="margin-left:0in\;">Discussion on the best ways for the WTA to support current initiatives in the Gorge</li>\n</ul>\n
LOCATION:Via Zoom Must be registered for log in details.
UID:e.3275.2253
SEQUENCE:3
DTSTAMP:20260422T041804Z
URL:https://www.mtadamschamber.com/events/details/wta-tourism-development-program-2253
END:VEVENT

END:VCALENDAR
