BEGIN:VCALENDAR
VERSION:2.0
PRODID:-//ChamberMaster//Event Calendar 2.0//EN
METHOD:PUBLISH
X-PUBLISHED-TTL:P3D
REFRESH-INTERVAL:P3D
CALSCALE:GREGORIAN
BEGIN:VEVENT
DTSTART:20210305T180000Z
DTEND:20210305T200000Z
X-MICROSOFT-CDO-ALLDAYEVENT:FALSE
SUMMARY:WTA - Destination Development
DESCRIPTION:Destination Development - the second portion of our morning workshop with the Washington Tourism Alliance:\n\n	Introduce participants to possible paths to take to build tourism\n	Identify assets (both developed and undeveloped) the region has to offer\n	Document gaps and needs that could be addressed by WTA in future workshops and educational programs\n	Discuss how to integrate Clark County into current destination development programs in the Gorge and vice versa
X-ALT-DESC;FMTTYPE=text/html:<strong>Destination Development </strong>- the second portion of our morning workshop with the Washington Tourism Alliance:\n<ul style="margin-top:0in" type="disc">\n	<li class="m_-4093528379628786766MsoListParagraph" style="margin-left:0in">Introduce participants to possible paths to take to build tourism</li>\n	<li class="m_-4093528379628786766MsoListParagraph" style="margin-left:0in">Identify assets (both developed and undeveloped) the region has to offer</li>\n	<li class="m_-4093528379628786766MsoListParagraph" style="margin-left:0in">Document gaps and needs that could be addressed by WTA in future workshops and educational programs</li>\n	<li class="m_-4093528379628786766MsoListParagraph" style="margin-left:0in">Discuss how to integrate Clark County into current destination development programs in the Gorge and vice versa</li>\n</ul>\n
LOCATION:Via Zoom Must be registered for log in details
UID:e.3275.2254
SEQUENCE:3
DTSTAMP:20260422T041822Z
URL:https://www.mtadamschamber.com/events/details/wta-destination-development-2254
END:VEVENT

END:VCALENDAR
