BEGIN:VCALENDAR
VERSION:2.0
PRODID:-//ChamberMaster//Event Calendar 2.0//EN
METHOD:PUBLISH
X-PUBLISHED-TTL:P3D
REFRESH-INTERVAL:P3D
CALSCALE:GREGORIAN
BEGIN:VEVENT
DTSTART:20260119T000000Z
DTEND:20260119T020000Z
X-MICROSOFT-CDO-ALLDAYEVENT:FALSE
SUMMARY:Skate Night at Underwood Recreation Center
DESCRIPTION:Everyone is welcome to join us for a Skate Session at Underwood Recreation Center. \n\n \n\nOur Skate Night is for all ages. We provide groovy lights\, fun music and a safe atmosphere for people to exercise and come together rolling around the room. \n\n \n\nYou do need to provide your own skates and gear.   \n\nWe highly recommend knee pads and wrist guards\, at a minimum. They can prevent broken wrists and injuries if you learn to slide on them when you fall.\n\nBring a water bottle. No food or drink allowed. \n\nThose 16 and under need an adult present.
X-ALT-DESC;FMTTYPE=text/html:<br />\n<span style="color:#000000\;"><span style="font-size:20px\;">Everyone is welcome to join us for a</span><strong><span style="font-size:20px\;">&nbsp\;Skate Session&nbsp\;</span></strong><span style="font-size:20px\;">at</span><strong><span style="font-size:20px\;"> Underwood Recreation Center. </span></strong><br />\n&nbsp\;<br />\n<strong>Our Skate Night is for all ages.</strong> We provide groovy lights\, fun music and a safe atmosphere for people to exercise and come together rolling around the room.&nbsp\;<br />\n&nbsp\;<br />\n<strong>You do need to provide your own skates and gear.&nbsp\;&nbsp\;&nbsp\;</strong><br />\n<strong>We highly recommend knee pads and wrist guards\, at a minimum. </strong><em>They can prevent broken wrists and injuries if you learn to slide on them when you fall.</em></span><br />\nBring a water bottle. No food or drink allowed.&nbsp\;<br />\nThose 16 and under need an adult present.&nbsp\;<br />\n<br />\n&nbsp\;
LOCATION:Underwood Community Center 951 Schoolhouse Road Underwood\, WA
UID:e.3275.3733
SEQUENCE:3
DTSTAMP:20260425T030727Z
URL:https://www.mtadamschamber.com/events/details/skate-night-at-underwood-recreation-center-3733
END:VEVENT

END:VCALENDAR
