BEGIN:VCALENDAR
VERSION:2.0
PRODID:-//ChamberMaster//Event Calendar 2.0//EN
METHOD:PUBLISH
X-PUBLISHED-TTL:P3D
REFRESH-INTERVAL:P3D
CALSCALE:GREGORIAN
BEGIN:VEVENT
DTSTART:20270808T230000Z
DTEND:20270809T010000Z
X-MICROSOFT-CDO-ALLDAYEVENT:FALSE
SUMMARY:Skate Night at Underwood Recreation Center
DESCRIPTION:Everyone is welcome to join us for Second Sunday Skate Night at Underwood Recreation Center. \n\n \n\nOur Skate Night is for all ages. We provide groovy lights\, fun music and a safe atmosphere for people to exercise and come together rolling around the room.  \n\n\n\nYou do need to provide your own skates and gear.   We would love to get a tote for donated skates to be repurposed by someone else.\n\nWe highly recommend knee pads and wrist guards\, at a minimum. They can prevent broken wrists and injuries if you learn to slide on them when you fall.
X-ALT-DESC;FMTTYPE=text/html:<br />\n<span style="color:#000000\;"><span style="font-size:20px\;">Everyone is welcome to join us for </span><strong><span style="font-size:20px\;">Second Sunday Skate Night </span></strong><span style="font-size:20px\;">at</span><strong><span style="font-size:20px\;"> Underwood Recreation Center. </span></strong><br />\n&nbsp\;<br />\n<strong>Our Skate Night is for all ages.</strong> We provide groovy lights\, fun music and a safe atmosphere for people to exercise and come together rolling around the room.&nbsp\;&nbsp\;<br />\n<br />\n<strong>You do need to provide your own skates and gear.&nbsp\;&nbsp\; </strong>We would love to get a tote for donated skates to be repurposed by someone else.<br />\n<strong>We highly recommend knee pads and wrist guards\, at a minimum. </strong><em>They can prevent broken wrists and injuries if you learn to slide on them when you fall.</em></span><br />\n<br />\n<br />\n&nbsp\;
LOCATION:Underwood Community Center 951 Schoolhouse Road Underwood\, WA
UID:e.3275.3198
SEQUENCE:3
DTSTAMP:20260424T160905Z
URL:https://www.mtadamschamber.com/events/details/skate-night-at-underwood-recreation-center-08-08-2027-3198
END:VEVENT

END:VCALENDAR
