BEGIN:VCALENDAR
VERSION:2.0
PRODID:-//ChamberMaster//Event Calendar 2.0//EN
METHOD:PUBLISH
X-PUBLISHED-TTL:P3D
REFRESH-INTERVAL:P3D
CALSCALE:GREGORIAN
BEGIN:VEVENT
DTSTART:20200220T024500Z
DTEND:20200220T043000Z
X-MICROSOFT-CDO-ALLDAYEVENT:FALSE
SUMMARY:Sense of Place: Shaping the Hood River Watershed
DESCRIPTION:The Hood River Watershed sustains the Hood River Valley in countless ways   we depend on the river for agriculture\, drinking water\, recreation\, industry\, supporting native fish populations\, and much more. Natural and human events have greatly impacted the watershed over time and shaped the way we connect with the river and each other. Join us for an exploration of pivotal events and actions over the past 30 years that have shaped the watershed as we know it today.
X-ALT-DESC;FMTTYPE=text/html:<span style="color: rgb(29\, 33\, 41)\; font-family: Helvetica\, Arial\, sans-serif\; font-size: 14px\; white-space: pre-wrap\; background-color: rgb(255\, 255\, 255)\;">The Hood River Watershed sustains the Hood River Valley in countless ways &ndash\; we depend on the river for agriculture\, drinking water\, recreation\, industry\, supporting native fish populations\, and much more. Natural and human events have greatly impacted the watershed over time and shaped the way we connect with the river and each other. Join us for an exploration of pivotal events and actions over the past 30 years that have shaped the watershed as we know it today.</span>
LOCATION:Columbia Center for the Arts 215 Cascade Ave Hood River\, OR 97031
UID:e.3275.2163
SEQUENCE:3
DTSTAMP:20260421T193341Z
URL:https://www.mtadamschamber.com/events/details/sense-of-place-shaping-the-hood-river-watershed-2163
END:VEVENT

END:VCALENDAR
