BEGIN:VCALENDAR
VERSION:2.0
PRODID:-//ChamberMaster//Event Calendar 2.0//EN
METHOD:PUBLISH
X-PUBLISHED-TTL:P3D
REFRESH-INTERVAL:P3D
CALSCALE:GREGORIAN
BEGIN:VEVENT
DTSTART:20200208T200000Z
DTEND:20200209T000000Z
X-MICROSOFT-CDO-ALLDAYEVENT:FALSE
SUMMARY:Ribbon Cutting / Open House The Garage Event Space
DESCRIPTION:Celebrate our new event space with us. \n\nOpen House 12-4 - stop by and say Hello. \n\nRibbon Cutting at 1:30\n\nLive Music\, Refreshments\, Fun People
X-ALT-DESC;FMTTYPE=text/html:Celebrate our new event space with us.&nbsp\;<br />\nOpen House 12-4 - stop by and say Hello.&nbsp\;<br />\nRibbon Cutting at 1:30<br />\nLive Music\, Refreshments\, Fun People
LOCATION:323 E. Steuben Bingen\, WA
UID:e.3275.2153
SEQUENCE:3
DTSTAMP:20260421T192906Z
URL:https://www.mtadamschamber.com/events/details/ribbon-cutting-open-house-the-garage-event-space-2153
END:VEVENT

END:VCALENDAR
