BEGIN:VCALENDAR
VERSION:2.0
PRODID:-//ChamberMaster//Event Calendar 2.0//EN
METHOD:PUBLISH
X-PUBLISHED-TTL:P3D
REFRESH-INTERVAL:P3D
CALSCALE:GREGORIAN
BEGIN:VEVENT
DTSTART:20200611T223000Z
DTEND:20200612T000000Z
X-MICROSOFT-CDO-ALLDAYEVENT:FALSE
SUMMARY:MACC Board Meeting - June
DESCRIPTION:The Mt. Adams Chamber of Commerce Board of Directors will hold their monthly Board Meeting. \n\nMembers are welcome to attend. Non members should make inquiry to the Executive Director in advance if they would like to present to this Board.
X-ALT-DESC;FMTTYPE=text/html:The Mt. Adams Chamber of Commerce Board of Directors will hold their monthly Board Meeting.&nbsp\;<br />\nMembers are welcome to attend. Non members should make inquiry to the Executive Director in advance if they would like to present to this Board.&nbsp\;
LOCATION:
UID:e.3275.2159
SEQUENCE:3
DTSTAMP:20260421T103553Z
URL:https://www.mtadamschamber.com/events/details/macc-board-meeting-june-2159
END:VEVENT

END:VCALENDAR
