BEGIN:VCALENDAR
VERSION:2.0
PRODID:-//ChamberMaster//Event Calendar 2.0//EN
METHOD:PUBLISH
X-PUBLISHED-TTL:P3D
REFRESH-INTERVAL:P3D
CALSCALE:GREGORIAN
BEGIN:VEVENT
DTSTART:20210828T220000Z
DTEND:20210829T000000Z
X-MICROSOFT-CDO-ALLDAYEVENT:FALSE
SUMMARY:Live Music Hawkins Cellars
DESCRIPTION:Live music outdoors on our lawn with a mountain view and tasty wine! Join us every Saturday from 3-5pm at our Underwood tasting room and rock out while sipping in the sunshine. Reservations are highly recommended. Please call or go online to reserve your table. Kerry Williams has been performing in The Gorge for 20 + years on mandolin and guitar\, as a soloist or in bands. Kerry plays many different styles of music which include swing\, country\, old time\, bluegrass\, folk\, or Celtic and typically is high energy.
X-ALT-DESC;FMTTYPE=text/html:Live music outdoors on our lawn with a mountain view and tasty wine! Join us every Saturday from 3-5pm at our Underwood tasting room and rock out while sipping in the sunshine. Reservations are highly recommended. Please call or go online to reserve your table. Kerry Williams has been performing in The Gorge for 20 + years on mandolin and guitar\, as a soloist or in bands. Kerry plays many different styles of music which include swing\, country\, old time\, bluegrass\, folk\, or Celtic and typically is high energy.
LOCATION:10401 Cook Underwood Road Underwood\, WA 98651
UID:e.3275.2295
SEQUENCE:3
DTSTAMP:20260420T123637Z
URL:https://www.mtadamschamber.com/events/details/live-music-hawkins-cellars-2295
END:VEVENT

END:VCALENDAR
