BEGIN:VCALENDAR
VERSION:2.0
PRODID:-//ChamberMaster//Event Calendar 2.0//EN
METHOD:PUBLISH
X-PUBLISHED-TTL:P3D
REFRESH-INTERVAL:P3D
CALSCALE:GREGORIAN
BEGIN:VEVENT
DTSTART;VALUE=DATE:20200229
DTEND;VALUE=DATE:20200301
TRANSP:TRANSPARENT
X-MICROSOFT-CDO-ALLDAYEVENT:TRUE
SUMMARY:Leap of Kindness Day
DESCRIPTION:Saturday\, February 29\, 2020\, we all get one additional day\, with this year being a Leap Year. What will you do with your extra day?\n\n\n\nWe invite you to take part in #LeapOfKindnessDay and do something kind for someone else.
X-ALT-DESC;FMTTYPE=text/html:<span style="font-size:18px">Saturday\, February 29\, 2020\, we all get one additional day\, with this year being a Leap Year. What will you do with your extra day?<br />\n<br />\nWe invite you to take part in #LeapOfKindnessDay and <strong>do something kind for someone else.</strong></span>
LOCATION:Where will you go on your extra day?
UID:e.3275.2203
SEQUENCE:3
DTSTAMP:20260421T192248Z
URL:https://www.mtadamschamber.com/events/details/leap-of-kindness-day-2203
END:VEVENT

END:VCALENDAR
