BEGIN:VCALENDAR
VERSION:2.0
PRODID:-//ChamberMaster//Event Calendar 2.0//EN
METHOD:PUBLISH
X-PUBLISHED-TTL:P3D
REFRESH-INTERVAL:P3D
CALSCALE:GREGORIAN
BEGIN:VEVENT
DTSTART:20210828T220000Z
DTEND:20210829T000000Z
X-MICROSOFT-CDO-ALLDAYEVENT:FALSE
SUMMARY:Kerry Williams at Hawkins Cellars
DESCRIPTION:Kerry Williams has been performing in The Gorge for 20 + years on mandolin and guitar\, as a soloist or in bands. Kerry plays many different styles of music which include swing\, country\, old time\, bluegrass\, folk\, or Celtic and typically is high energy.
X-ALT-DESC;FMTTYPE=text/html:Kerry Williams has been performing in The Gorge for 20 + years on mandolin and guitar\, as a soloist or in bands. Kerry plays many different styles of music which include swing\, country\, old time\, bluegrass\, folk\, or Celtic and typically is high energy.
LOCATION:Hawkins Cellars 10401 Cook Underwood Rd. Underwood\, WA 98651
UID:e.3275.2299
SEQUENCE:3
DTSTAMP:20260420T121255Z
URL:https://www.mtadamschamber.com/events/details/kerry-williams-at-hawkins-cellars-2299
END:VEVENT

END:VCALENDAR
