BEGIN:VCALENDAR
VERSION:2.0
PRODID:-//ChamberMaster//Event Calendar 2.0//EN
METHOD:PUBLISH
X-PUBLISHED-TTL:P3D
REFRESH-INTERVAL:P3D
CALSCALE:GREGORIAN
BEGIN:VEVENT
DTSTART:20200220T010000Z
DTEND:20200220T033000Z
X-MICROSOFT-CDO-ALLDAYEVENT:FALSE
SUMMARY:Gorge-Ous Night in Salem 2020
DESCRIPTION:The reception\, hosted by Representatives\,  will welcome many Oregon State legislators and their staff to enjoy Gorge regional food\, beer\, and wines while mixing with Gorge residents to learn about regional legislative priorities\, major industries and products.
X-ALT-DESC;FMTTYPE=text/html:<span style="font-family:calibri\,sans-serif\;"><span style="font-size:11.0pt\;">The reception\, hosted by Representatives\,&nbsp\; will welcome many Oregon State legislators and their staff to enjoy Gorge regional food\, beer\, and wines while mixing with Gorge residents to learn about regional legislative priorities\, major industries and products. </span></span>
LOCATION:Mission Dye House Upstairs Salem\, OR
UID:e.3275.2152
SEQUENCE:3
DTSTAMP:20260421T192230Z
URL:https://www.mtadamschamber.com/events/details/gorge-ous-night-in-salem-2020-2152
END:VEVENT

END:VCALENDAR
