BEGIN:VCALENDAR
VERSION:2.0
PRODID:-//ChamberMaster//Event Calendar 2.0//EN
METHOD:PUBLISH
X-PUBLISHED-TTL:P3D
REFRESH-INTERVAL:P3D
CALSCALE:GREGORIAN
BEGIN:VEVENT
DTSTART:20210424T200000Z
DTEND:20210424T220000Z
X-MICROSOFT-CDO-ALLDAYEVENT:FALSE
SUMMARY:Drive By Good Bye Judy Beckman Party
DESCRIPTION:You are invited to a\n\nDrive By\n\nGood-Bye Party\n\nfor Judy Beckman.
X-ALT-DESC;FMTTYPE=text/html:You are invited to a<br />\nDrive By<br />\nGood-Bye Party<br />\nfor Judy Beckman.
LOCATION:Parking lot of Our Savior Lutheran Church Intersection of Hwy 141 and Jefferson Bingen\, WA
UID:e.3275.2278
SEQUENCE:3
DTSTAMP:20260422T080133Z
URL:https://www.mtadamschamber.com/events/details/drive-by-good-bye-judy-beckman-party-2278
END:VEVENT

END:VCALENDAR
