BEGIN:VCALENDAR
VERSION:2.0
PRODID:-//ChamberMaster//Event Calendar 2.0//EN
METHOD:PUBLISH
X-PUBLISHED-TTL:P3D
REFRESH-INTERVAL:P3D
CALSCALE:GREGORIAN
BEGIN:VEVENT
DTSTART:20210428T190000Z
DTEND:20210428T200000Z
X-MICROSOFT-CDO-ALLDAYEVENT:FALSE
SUMMARY:Community Cleanup Planning Committee Mtg
DESCRIPTION:Would you like to help plan our 25th annual Community Cleanup of White Salmon & Bingen? We are seeking volunteers to help with a variety of tasks. \n\nJoin us to learn more and to help make this event happen.
X-ALT-DESC;FMTTYPE=text/html:Would you like to help plan our 25th annual Community Cleanup of White Salmon &amp\; Bingen? We are seeking volunteers to help with a variety of tasks.&nbsp\;<br />\nJoin us to learn more and to help make this event happen.
LOCATION:Via Zoom Meetings Please rsvp in advance for log in details
UID:e.3275.2279
SEQUENCE:3
DTSTAMP:20260422T080031Z
URL:https://www.mtadamschamber.com/events/details/community-cleanup-planning-committee-mtg-2279
END:VEVENT

END:VCALENDAR
