BEGIN:VCALENDAR
VERSION:2.0
PRODID:-//ChamberMaster//Event Calendar 2.0//EN
METHOD:PUBLISH
X-PUBLISHED-TTL:P3D
REFRESH-INTERVAL:P3D
CALSCALE:GREGORIAN
BEGIN:VEVENT
DTSTART:20210414T190000Z
DTEND:20210414T200000Z
X-MICROSOFT-CDO-ALLDAYEVENT:FALSE
SUMMARY:Community Cleanup Planning Committee Mtg
DESCRIPTION:Join us in planning for our annual spring cleanup event brought to you by the White Salmon-Bingen Rotary Club and other community partners.\n\n Community Cleanup is a fantastic way to spruce up the area and bring our community members together in a service oriented event. Volunteer for a couple hours and help make this event continue.
X-ALT-DESC;FMTTYPE=text/html:<span style="color: rgb(29\, 33\, 41)\; font-family: Helvetica\, Arial\, sans-serif\; font-size: 12px\; background-color: rgb(255\, 255\, 255)\;">Join us in planning for our annual spring cleanup event brought to you by the White Salmon-Bingen Rotary Club and other community partners.<br />\n&nbsp\;Community Cleanup is a fantastic way to spruce up the area and bring our community members together in a service oriented event. Volunteer for a couple hours and help make this event continue.&nbsp\;</span><br />\n<br />\n&nbsp\;
LOCATION:Meeting Virtually via Zoom - please rsvp for log in details
UID:e.3275.2277
SEQUENCE:3
DTSTAMP:20260422T062657Z
URL:https://www.mtadamschamber.com/events/details/community-cleanup-planning-committee-mtg-2277
END:VEVENT

END:VCALENDAR
