BEGIN:VCALENDAR
VERSION:2.0
PRODID:-//ChamberMaster//Event Calendar 2.0//EN
METHOD:PUBLISH
X-PUBLISHED-TTL:P3D
REFRESH-INTERVAL:P3D
CALSCALE:GREGORIAN
BEGIN:VEVENT
DTSTART:20200229T030000Z
DTEND:20200229T050000Z
X-MICROSOFT-CDO-ALLDAYEVENT:FALSE
SUMMARY:Comedy Night at the Lyle Hotel
DESCRIPTION:Please join us for a great night of professional stand up comedy
X-ALT-DESC;FMTTYPE=text/html:Please join us for a great night of professional stand up comedy
LOCATION:The Lyle Hotel 100 7th St. Lyle\, Wa
UID:e.3275.2161
SEQUENCE:3
DTSTAMP:20260421T193335Z
URL:https://www.mtadamschamber.com/events/details/comedy-night-at-the-lyle-hotel-2161
END:VEVENT

END:VCALENDAR
