BEGIN:VCALENDAR
VERSION:2.0
PRODID:-//ChamberMaster//Event Calendar 2.0//EN
METHOD:PUBLISH
X-PUBLISHED-TTL:P3D
REFRESH-INTERVAL:P3D
CALSCALE:GREGORIAN
BEGIN:VEVENT
DTSTART:20210318T150000Z
DTEND:20210318T160000Z
X-MICROSOFT-CDO-ALLDAYEVENT:FALSE
SUMMARY:Coffee & Tea Connections March 2021
DESCRIPTION:Coffee & Tea Connections is the time to meet other business owners and learn more about your community while also making others aware of your business and what you do. We cannot meet in person yet\, but hope you will join us from the comfort of your own home or office. \n\nPlease Join Us!
X-ALT-DESC;FMTTYPE=text/html:Coffee &amp\; Tea Connections is the time to meet other business owners and learn more about your community while also making others aware of your business and what you do. We cannot meet in person yet\, but hope you will join us from the comfort of your own home or office.&nbsp\;<br />\n<font color="#000000" face="arial\, sans-serif"><span style="font-size: 18.6667px\;"><b>Please Join Us!</b></span></font>
LOCATION:Zoom Virtual Meeting Register in advance for details.
UID:e.3275.2245
SEQUENCE:3
DTSTAMP:20260422T042432Z
URL:https://www.mtadamschamber.com/events/details/coffee-tea-connections-march-2021-2245
END:VEVENT

END:VCALENDAR
