BEGIN:VCALENDAR
VERSION:2.0
PRODID:-//ChamberMaster//Event Calendar 2.0//EN
METHOD:PUBLISH
X-PUBLISHED-TTL:P3D
REFRESH-INTERVAL:P3D
CALSCALE:GREGORIAN
BEGIN:VEVENT
DTSTART:20221001T000000Z
DTEND:20221001T030000Z
X-MICROSOFT-CDO-ALLDAYEVENT:FALSE
SUMMARY:Artist Unleashed ~ Emergent Art Show Open House featuring Sandra Sanchez Palacios & Archer Mayo
DESCRIPTION:This installation is a dialogue between two artist and their creative processes. They both use sculpture and materials to create objects imbued with story and meaning.\n\n\n\nArcher's objects show story over time that leave us searching for memory and meaning.\n\n\n\nSandra's altars are vessels that invite inner exploration and pause to move forward with deeper clarity and intention.\n\n\n\nViewers are invited to experience the created objects and let them become a portal for finding stories of the untold mysteries\, past present and future\, within ourselves.\n\n\n\nFriday\, 09/30 - Join us for the show opening night celebration from 5-8P!\n\nSaturday\, 10/1 - Gallery open from 11A-5P with a silent tour\, artist talk\, and Q&A: A Creative Conversation ~ Discussions of Art & Inspiration from 4-5P.\n\nSunday\, 10/2 - Gallery open from 11A-5P. Join Sandra & Archer for A Creative Conversation ~ Discussions of Art & Inspiration on Saturday 10/1 from 4-5P.\n\nThis moderated discussion takes place in the studio surrounded by their sublime and sacred instillation\, and there is no cost to attend.\n\n\n\nArtist Unleashed is a re-imagined art show series that gives artists a platform to explore their creative potential and share it through a gallery installation and rich interactive experience.\n\nRead more about the artists and their inspirations on our website: https://www.moonmountainhighway.com/classes-events
X-ALT-DESC;FMTTYPE=text/html:This installation is a dialogue between two artist and their creative processes. They both use sculpture and materials to create objects imbued with story and meaning.<br />\n<br />\nArcher&rsquo\;s objects show story over time that leave us searching for memory and meaning.<br />\n<br />\nSandra&rsquo\;s altars are vessels that invite inner exploration and pause to move forward with deeper clarity and intention.<br />\n<br />\nViewers are invited to experience the created objects and let them become a portal for finding stories of the untold mysteries\, past present and future\, within ourselves.<br />\n<br />\nFriday\, 09/30 - Join us for the show opening night celebration from 5-8P!<br />\nSaturday\, 10/1 - Gallery open from 11A-5P with a silent tour\, artist talk\, and Q&amp\;A: A Creative Conversation ~ Discussions of Art &amp\; Inspiration from 4-5P.<br />\nSunday\, 10/2 - Gallery open from 11A-5P. Join Sandra &amp\; Archer for A Creative Conversation ~ Discussions of Art &amp\; Inspiration on Saturday 10/1 from 4-5P.<br />\nThis moderated discussion takes place in the studio surrounded by their sublime and sacred instillation\, and there is no cost to attend.<br />\n<br />\nArtist Unleashed is a re-imagined art show series that gives artists a platform to explore their creative potential and share it through a gallery installation and rich interactive experience.<br />\nRead more about the artists and their inspirations on our website: https://www.moonmountainhighway.com/classes-events
LOCATION:113 W Steuben Street Bingen\, WA\, 98605
UID:e.3275.2819
SEQUENCE:3
DTSTAMP:20260425T165712Z
URL:https://www.mtadamschamber.com/events/details/artist-unleashed-emergent-art-show-open-house-featuring-sandra-sanchez-palacios-archer-mayo-2819
END:VEVENT

END:VCALENDAR
