BEGIN:VCALENDAR
VERSION:2.0
PRODID:-//ChamberMaster//Event Calendar 2.0//EN
METHOD:PUBLISH
X-PUBLISHED-TTL:P3D
REFRESH-INTERVAL:P3D
CALSCALE:GREGORIAN
BEGIN:VEVENT
DTSTART:20230216T010000Z
DTEND:20230216T030000Z
X-MICROSOFT-CDO-ALLDAYEVENT:FALSE
SUMMARY:A Gorgeous Night in Salem
DESCRIPTION:A Gorge-ous Night In Salem\n\nJoin Oregon legislators for an evening of food\, drink\, and fantastic giveaways from the Columbia River Gorge. Feast on regional delicacies\, wine\, and beer while exploring the Gorge's high-tech\, wind power\, agricultural\, timber\, and outdoor recreation industries. Discover what makes this bi-state region a magnet for business development and tourism.\n\nJoin us for an in person reception showcase of the The Columbia River Gorge National Scenic Area Bi State Region.\n\nYou are invited to participate in the Gorgeous Nights 2023 events.\n\n \n\nWed February 15th  -  Mission Mill Dye House at the Willamette Heritage Center complex in Salem\n\n \n\nThis showcase event will welcome many state legislators and their staff to enjoy Gorge regional food\, beer\, and wines while mixing with Gorge residents to learn about regional legislative priorities\, major industries and our products. \n\n \nHere is a link to our 2022 video we created to share with the legislators when we could not go in person.    https://youtu.be/va0iuECRQoU  Please watch this 9 minute video that will give you a good overview of our priorities. \n\n \n\nIf you have a reason to connect with our state representatives\, this can be a great event to be a part of.\n\n \n\nBrittany Berge is the lead organizer for the Salem event.\n\nTammara Tippel is the lead organizer for the Washington event.\n\nWe work together on both.\n\n \nWe need Door Prizes! We love gift certificates that will cause the winner to come to the Gorge to redeem it.  All donations are greatly appreciated - if you can do two\, then we will send one to each event. Sponsors are recognized before and at the event.\n\n \n\nLooking forward to hearing from you.\n\n\n\n\nHosted by:\n\nOne Gorge is composed of private and public sector leaders working together to understand and advocate for the unique needs of our individual communities and the regional community as a whole. We are collaborating to advocate for the investments and support that our communities need to build and sustain a thriving economy in this unique and beautiful region shared by Washington and Oregon.\n\n \n\nSupporting the public\, private and non-profit sectors in collaborative efforts to increase awareness of our region\, advocate for regional needs\, and support a strong and sustainable Gorge economy.
X-ALT-DESC;FMTTYPE=text/html:<span style="font-size:18px\;"><u><strong>A Gorge-ous Night In Salem</strong></u></span><br />\nJoin Oregon legislators for an evening of food\, drink\, and fantastic giveaways from the Columbia River Gorge. Feast on regional delicacies\, wine\, and beer while exploring the Gorge&#39\;s high-tech\, wind power\, agricultural\, timber\, and outdoor recreation industries. Discover what makes this bi-state region a magnet for business development and tourism.<br />\nJoin us for an in person reception showcase of the The Columbia River Gorge National Scenic Area Bi State Region.\n<div style="font-family:Calibri\,Arial\,Helvetica\,sans-serif\;font-size:12pt\;color:rgb(0\,0\,0)">\n<div class="gmail_default" style="font-size:small">You are invited to participate in the <b>Gorgeous Nights 2023</b> events.</div>\n\n<div class="gmail_default" style="font-size:small">&nbsp\;</div>\n\n<div class="gmail_default" style="font-size:small">Wed <b>February 15th</b>&nbsp\; -&nbsp\; Mission Mill Dye House at the Willamette Heritage Center complex in Salem</div>\n\n<div class="gmail_default" style="font-size:small">&nbsp\;</div>\n\n<div class="gmail_default" style="font-size:small"><span style="font-family:tahoma\,sans-serif">This showcase event will welcome many state legislators and their staff to enjoy Gorge regional food\, beer\, and wines while mixing with Gorge residents to learn about regional legislative priorities\, major industries and our products. </span></div>\n\n<div class="gmail_default" style="font-size:small">&nbsp\;</div>\nHere is a <b>link to our 2022 video</b> we created to share with the legislators when we could not go in person. &nbsp\;&nbsp\; <a data-saferedirecturl="https://www.google.com/url?q=https://youtu.be/va0iuECRQoU&amp\;source=gmail&amp\;ust=1673478599363000&amp\;usg=AOvVaw0M6o1PD7SAi6A61cWX3Odp" href="https://youtu.be/va0iuECRQoU" target="_blank">https://youtu.be/va0iuECRQoU</a>&nbsp\; Please watch this 9 minute video that will give you a good overview of our priorities.&nbsp\;\n\n<div class="gmail_default" style="font-size:small">&nbsp\;</div>\n\n<div class="gmail_default" style="font-size:small">If you have a reason to connect with our state representatives\, this can be a great event to be a part of.</div>\n\n<div class="gmail_default" style="font-size:small">&nbsp\;</div>\n\n<div class="gmail_default" style="font-size:small">Brittany Berge is the lead organizer for the Salem event.<br />\nTammara Tippel is the lead organizer for the Washington event.</div>\n\n<div class="gmail_default" style="font-size:small">We work together on both.</div>\n\n<div class="gmail_default" style="font-size:small">&nbsp\;</div>\n<b>We need Door Prizes!</b> We love gift certificates that will cause the winner to come to the Gorge to redeem it.&nbsp\; All donations are greatly appreciated - if you can do two\, then we will send one to each event. Sponsors are recognized before and at the event.\n\n<div class="gmail_default" style="font-size:small">&nbsp\;</div>\n\n<div class="gmail_default" style="font-size:small">Looking forward to hearing from you.</div>\n\n<div class="gmail_default" style="font-size:small">\n<div class="gmail_default" style="font-size:small"><br />\nHosted by:</div>\n\n<div class="gmail_default" style="font-size:small"><b>One Gorge</b> <i>is composed&nbsp\;of private and public sector leaders working together to understand and advocate for the unique needs of our individual communities and the regional community as a whole. We are collaborating to advocate&nbsp\;for the investments and support that our communities&nbsp\;need to build and sustain a thriving economy in this unique and beautiful region shared by Washington and Oregon.</i><br />\n&nbsp\;</div>\n</div>\n<em>Supporting the public\, private and non-profit sectors in collaborative efforts to increase awareness of our region\, advocate for regional needs\, and support a strong and sustainable Gorge economy.</em></div>\n
LOCATION:Mission Mill Dye House The Spinning Room 1313 Mill Street Salem\, Oregon
UID:e.3275.2849
SEQUENCE:3
DTSTAMP:20260421T002438Z
URL:https://www.mtadamschamber.com/events/details/a-gorgeous-night-in-salem-2849
END:VEVENT

END:VCALENDAR
