BEGIN:VCALENDAR
VERSION:2.0
PRODID:-//ChamberMaster//Event Calendar 2.0//EN
METHOD:PUBLISH
X-PUBLISHED-TTL:P3D
REFRESH-INTERVAL:P3D
CALSCALE:GREGORIAN
BEGIN:VEVENT
DTSTART:20200206T013000Z
DTEND:20200206T033000Z
X-MICROSOFT-CDO-ALLDAYEVENT:FALSE
SUMMARY:A GORGE-OUS NIGHT IN OLYMPIA
DESCRIPTION:A Gorge-ous Night In Olympia\n\nJoin south central Washington legislators for an evening of food\, drink\, and fantastic giveaways from the Columbia River Gorge. Feast on regional delicacies\, wine\, and beer while exploring the Gorge's high-tech\, wind power\, agricultural\, timber\, and outdoor recreation industries. Discover what makes this bi-state region a magnet for business development and tourism.\n\nHOSTED BY\n\nRepresentative Gina Mosbrucker\,\n\nRepresentative Chris Cory\,\n\nAnd Senator Curtis King
X-ALT-DESC;FMTTYPE=text/html:A Gorge-ous Night In Olympia<br />\nJoin south central Washington legislators for an evening of food\, drink\, and fantastic giveaways from the Columbia River Gorge. Feast on regional delicacies\, wine\, and beer while exploring the Gorge&#39\;s high-tech\, wind power\, agricultural\, timber\, and outdoor recreation industries. Discover what makes this bi-state region a magnet for business development and tourism.<br />\nHOSTED BY<br />\nRepresentative Gina Mosbrucker\,<br />\nRepresentative Chris Cory\,<br />\nAnd Senator Curtis King
LOCATION:State of Washington Capital Building Olympia\, Washington
UID:e.3275.1927
SEQUENCE:3
DTSTAMP:20260421T192747Z
URL:https://www.mtadamschamber.com/events/details/a-gorge-ous-night-in-olympia-1927
END:VEVENT

END:VCALENDAR
